BEGIN:VCALENDAR
VERSION:2.0
PRODID:-// eRoom plugin //NONSGML v1.0//EN
CALSCALE:GREGORIAN
BEGIN:VEVENT
UID:eRoom-1776846814
SUMMARY:Rencontre avec l&rsquo;équipe
LOCATION:
DESCRIPTION:В аналітичній записці розглянуто 
 еханізми державної підтримки національ
 ного кінематографа в окремих європейськ
 их країнах. Проаналізовано найбільш сер
 озні проблеми української кінематограф
 ії. З урахуванням європейського досвіду
 \, запропоновано шляхи розвитку кіноінду
 стрії в Україні.\n\nЧитати більше - http://old2.n
 iss.gov.ua/articles/1432/\n© Національний інститут с
 тратегічних досліджень\n\n---\n\nRencontre avec l&rsq
 uo\;équipe is inviting you to a scheduled Zoom meeting.\n\nJoin Zoom Meet
 ing\nhttps://zoom.us/j/98564378532?pwd=ZzZmMjI0dzdUYXpUaUtGNkxFcFNEdz09\n
 \nMeeting ID: 98564378532\nPasscode: wAHS93\n
URL;VALUE=URI:https://zoom.us/j/98564378532?pwd=ZzZmMjI0dzdUYXpUaUtGNkxFcFNEdz09
DTSTART:20211121T100000Z
DTEND:20211121T110000Z
DTSTAMP:20260422T083334Z
BEGIN:VALARM
ACTION:DISPLAY
RIGGER;RELATED=START:-PT00H15M00S
BEGIN:VALARM
END:VEVENT
END:VCALENDAR